BEGIN:VCALENDAR
VERSION:2.0
PRODID:-//Town of Mosel - ECPv6.15.17.1//NONSGML v1.0//EN
CALSCALE:GREGORIAN
METHOD:PUBLISH
X-WR-CALNAME:Town of Mosel
X-ORIGINAL-URL:https://moselwi.gov
X-WR-CALDESC:Events for Town of Mosel
REFRESH-INTERVAL;VALUE=DURATION:PT1H
X-Robots-Tag:noindex
X-PUBLISHED-TTL:PT1H
BEGIN:VTIMEZONE
TZID:America/Chicago
BEGIN:DAYLIGHT
TZOFFSETFROM:-0600
TZOFFSETTO:-0500
TZNAME:CDT
DTSTART:20220313T080000
END:DAYLIGHT
BEGIN:STANDARD
TZOFFSETFROM:-0500
TZOFFSETTO:-0600
TZNAME:CST
DTSTART:20221106T070000
END:STANDARD
BEGIN:DAYLIGHT
TZOFFSETFROM:-0600
TZOFFSETTO:-0500
TZNAME:CDT
DTSTART:20230312T080000
END:DAYLIGHT
BEGIN:STANDARD
TZOFFSETFROM:-0500
TZOFFSETTO:-0600
TZNAME:CST
DTSTART:20231105T070000
END:STANDARD
BEGIN:DAYLIGHT
TZOFFSETFROM:-0600
TZOFFSETTO:-0500
TZNAME:CDT
DTSTART:20240310T080000
END:DAYLIGHT
BEGIN:STANDARD
TZOFFSETFROM:-0500
TZOFFSETTO:-0600
TZNAME:CST
DTSTART:20241103T070000
END:STANDARD
BEGIN:DAYLIGHT
TZOFFSETFROM:-0600
TZOFFSETTO:-0500
TZNAME:CDT
DTSTART:20250309T080000
END:DAYLIGHT
BEGIN:STANDARD
TZOFFSETFROM:-0500
TZOFFSETTO:-0600
TZNAME:CST
DTSTART:20251102T070000
END:STANDARD
END:VTIMEZONE
BEGIN:VEVENT
DTSTART;VALUE=DATE:20240529
DTEND;VALUE=DATE:20240530
DTSTAMP:20260419T103233
CREATED:20240418T033142Z
LAST-MODIFIED:20240418T033142Z
UID:591-1716940800-1717027199@moselwi.gov
SUMMARY:Board of Review
DESCRIPTION:
URL:https://moselwi.gov/event/board-of-review/
CATEGORIES:Town Board
END:VEVENT
BEGIN:VEVENT
DTSTART;TZID=America/Chicago:20240522T183000
DTEND;TZID=America/Chicago:20240522T183000
DTSTAMP:20260419T103233
CREATED:20240418T032338Z
LAST-MODIFIED:20240418T032459Z
UID:581-1716402600-1716402600@moselwi.gov
SUMMARY:Town Board Meeting
DESCRIPTION:
URL:https://moselwi.gov/event/town-board-meeting-2/
CATEGORIES:Town Board
END:VEVENT
BEGIN:VEVENT
DTSTART;VALUE=DATE:20240506
DTEND;VALUE=DATE:20240507
DTSTAMP:20260419T103233
CREATED:20240418T033112Z
LAST-MODIFIED:20240418T033112Z
UID:590-1714953600-1715039999@moselwi.gov
SUMMARY:Open Book
DESCRIPTION:
URL:https://moselwi.gov/event/open-book/
CATEGORIES:Town Board
END:VEVENT
BEGIN:VEVENT
DTSTART;TZID=America/Chicago:20240402T070000
DTEND;TZID=America/Chicago:20240402T200000
DTSTAMP:20260419T103233
CREATED:20240328T015957Z
LAST-MODIFIED:20240328T015957Z
UID:550-1712041200-1712088000@moselwi.gov
SUMMARY:Spring Election & Presidential Preference Primary
DESCRIPTION:Spring Election
URL:https://moselwi.gov/event/spring-election-presidential-preference-primary/
CATEGORIES:Elections
END:VEVENT
BEGIN:VEVENT
DTSTART;TZID=America/Chicago:20230419T183000
DTEND;TZID=America/Chicago:20230419T183000
DTSTAMP:20260419T103233
CREATED:20230430T225441Z
LAST-MODIFIED:20230430T225441Z
UID:210-1681929000-1681929000@moselwi.gov
SUMMARY:Town Board Meeting
DESCRIPTION:
URL:https://moselwi.gov/event/town-board-meeting/2023-04-19/
LOCATION:Town Hall\, W982 County Road FF\, Sheboygan\, WI\, 53083\, United States
CATEGORIES:Town Board
END:VEVENT
BEGIN:VEVENT
DTSTART;TZID=America/Chicago:20230418T183000
DTEND;TZID=America/Chicago:20230418T183000
DTSTAMP:20260419T103233
CREATED:20230430T225631Z
LAST-MODIFIED:20230430T225631Z
UID:263-1681842600-1681842600@moselwi.gov
SUMMARY:Annual Meeting
DESCRIPTION:
URL:https://moselwi.gov/event/annual-meeting/2023-04-18/
LOCATION:Town Hall\, W982 County Road FF\, Sheboygan\, WI\, 53083\, United States
CATEGORIES:Annual Meeting
END:VEVENT
END:VCALENDAR